BEGIN:VCALENDAR
VERSION:2.0
PRODID:-//The Regenesis Institute for Regenerative Practice - ECPv6.15.5//NONSGML v1.0//EN
CALSCALE:GREGORIAN
METHOD:PUBLISH
X-WR-CALNAME:The Regenesis Institute for Regenerative Practice
X-ORIGINAL-URL:https://members.regenerat.es
X-WR-CALDESC:Events for The Regenesis Institute for Regenerative Practice
REFRESH-INTERVAL;VALUE=DURATION:PT1H
X-Robots-Tag:noindex
X-PUBLISHED-TTL:PT1H
BEGIN:VTIMEZONE
TZID:America/New_York
BEGIN:DAYLIGHT
TZOFFSETFROM:-0500
TZOFFSETTO:-0400
TZNAME:EDT
DTSTART:20260308T070000
END:DAYLIGHT
BEGIN:STANDARD
TZOFFSETFROM:-0400
TZOFFSETTO:-0500
TZNAME:EST
DTSTART:20261101T060000
END:STANDARD
END:VTIMEZONE
BEGIN:VEVENT
DTSTART;TZID=America/New_York:20260417T120000
DTEND;TZID=America/New_York:20260417T130000
DTSTAMP:20260422T042350
CREATED:20240201T151952Z
LAST-MODIFIED:20240201T152657Z
UID:10001864-1776427200-1776430800@members.regenerat.es
SUMMARY:Eastern US Regenerative Practice Practice
DESCRIPTION:The intention behind our calls every Friday is to build a community of “friends in the work” so that we can help one another to keep practicing in a way that is developmental for us all. The idea is to bring together a community of practitioners in a way that was very lightly structured/controlled and self-organizing where we all contribute to the development of a vitalizing energy field. \nThese sessions are attended by a group of mostly Eastern US practitioners\, though practitioners from Brazil\, the UK and elsewhere in the world are regular participants. \nYou are welcome to show up and listen but we encourage you take this as an opportunity to grow in the work by actively participating in the discussions\, perhaps even making promises beyond ableness and facilitating a session yourself or with a partner. \nIn order to attend a session please contact organizer Marcus Sheffer. Marcus will add you to the group’s email list  as well as provide you with the zoom link for the calls and the sign-up sheet for session facilitation. \nYou can read a letter from Marcus that provides some overall reflections on the process and structure for these calls and guidance for facilitating a session here. \nPhoto of Blue Ridge by Marcus Sheffer
URL:https://members.regenerat.es/event/eastern-us-regenerative-practice-practice-2/2026-04-17/
ATTACH;FMTTYPE=image/jpeg:https://members.regenerat.es/wp-content/uploads/2022/10/Blue-Ridge.jpg
ORGANIZER;CN="Marcus Sheffer":MAILTO:sheffer@sevengroup.com
END:VEVENT
END:VCALENDAR